Package: iGC Version: 1.36.0 Command: /home/biocbuild/R/R/bin/R CMD build --keep-empty-dirs --no-resave-data iGC StartedAt: 2025-01-31 00:22:10 -0000 (Fri, 31 Jan 2025) EndedAt: 2025-01-31 00:22:45 -0000 (Fri, 31 Jan 2025) EllapsedTime: 35.0 seconds RetCode: 0 Status: OK PackageFile: iGC_1.36.0.tar.gz PackageFileSize: 2.974 MiB