Package: iGC Version: 1.36.0 Command: /home/biocbuild/R/R/bin/R CMD INSTALL iGC StartedAt: 2025-01-30 20:07:40 -0000 (Thu, 30 Jan 2025) EndedAt: 2025-01-30 20:08:25 -0000 (Thu, 30 Jan 2025) EllapsedTime: 44.8 seconds RetCode: 0 Status: OK