Package: iNETgrate Version: 1.4.0 Command: /Library/Frameworks/R.framework/Resources/bin/R CMD check --install=check:iNETgrate.install-out.txt --library=/Library/Frameworks/R.framework/Resources/library --no-vignettes --timings iNETgrate_1.4.0.tar.gz StartedAt: 2025-01-31 05:20:05 -0500 (Fri, 31 Jan 2025) EndedAt: 2025-01-31 05:45:05 -0500 (Fri, 31 Jan 2025) EllapsedTime: 1500.3 seconds RetCode: 0 Status: OK CheckDir: iNETgrate.Rcheck Warnings: 0