Package: iNETgrate Version: 1.4.0 Command: /Library/Frameworks/R.framework/Resources/bin/R CMD INSTALL iNETgrate StartedAt: 2025-01-30 16:39:50 -0500 (Thu, 30 Jan 2025) EndedAt: 2025-01-30 16:41:57 -0500 (Thu, 30 Jan 2025) EllapsedTime: 126.4 seconds RetCode: 0 Status: OK