Package: iNETgrate Version: 1.4.0 Command: /home/biocbuild/R/R/bin/R CMD check --install=check:iNETgrate.install-out.txt --library=/home/biocbuild/R/R/site-library --no-vignettes --timings iNETgrate_1.4.0.tar.gz StartedAt: 2025-02-04 08:02:34 -0000 (Tue, 04 Feb 2025) EndedAt: 2025-02-04 08:18:07 -0000 (Tue, 04 Feb 2025) EllapsedTime: 933.0 seconds RetCode: 0 Status: OK CheckDir: iNETgrate.Rcheck Warnings: 0