Package: iSEE Version: 2.18.0 Command: /Library/Frameworks/R.framework/Resources/bin/R CMD build --keep-empty-dirs --no-resave-data iSEE StartedAt: 2025-02-04 02:01:29 -0500 (Tue, 04 Feb 2025) EndedAt: 2025-02-04 02:04:20 -0500 (Tue, 04 Feb 2025) EllapsedTime: 170.6 seconds RetCode: 0 Status: OK PackageFile: iSEE_2.18.0.tar.gz PackageFileSize: 25.6 MiB