Package: iSEE Version: 2.18.0 Command: /Library/Frameworks/R.framework/Resources/bin/R CMD INSTALL iSEE StartedAt: 2025-01-30 16:58:51 -0500 (Thu, 30 Jan 2025) EndedAt: 2025-01-30 16:59:36 -0500 (Thu, 30 Jan 2025) EllapsedTime: 45.4 seconds RetCode: 0 Status: OK