Package: iSEE Version: 2.18.0 Command: /Library/Frameworks/R.framework/Resources/bin/R CMD build --keep-empty-dirs --no-resave-data iSEE StartedAt: 2025-02-03 19:49:09 -0500 (Mon, 03 Feb 2025) EndedAt: 2025-02-03 19:53:31 -0500 (Mon, 03 Feb 2025) EllapsedTime: 262.1 seconds RetCode: 0 Status: OK PackageFile: iSEE_2.18.0.tar.gz PackageFileSize: 25.6 MiB