Package: iSEE Version: 2.18.0 Command: /Library/Frameworks/R.framework/Resources/bin/R CMD INSTALL iSEE StartedAt: 2025-02-10 15:59:05 -0500 (Mon, 10 Feb 2025) EndedAt: 2025-02-10 16:00:39 -0500 (Mon, 10 Feb 2025) EllapsedTime: 94.2 seconds RetCode: 0 Status: OK