Package: iSEE Version: 2.18.0 Command: /home/biocbuild/bbs-3.20-bioc/R/bin/R CMD check --install=check:iSEE.install-out.txt --library=/home/biocbuild/bbs-3.20-bioc/R/site-library --timings iSEE_2.18.0.tar.gz StartedAt: 2025-01-30 23:17:48 -0500 (Thu, 30 Jan 2025) EndedAt: 2025-01-30 23:25:19 -0500 (Thu, 30 Jan 2025) EllapsedTime: 450.5 seconds RetCode: 0 Status: OK CheckDir: iSEE.Rcheck Warnings: 0