Package: iSEE Version: 2.18.0 Command: /home/biocbuild/R/R/bin/R CMD build --keep-empty-dirs --no-resave-data iSEE StartedAt: 2025-01-31 00:27:20 -0000 (Fri, 31 Jan 2025) EndedAt: 2025-01-31 00:30:07 -0000 (Fri, 31 Jan 2025) EllapsedTime: 167.1 seconds RetCode: 0 Status: OK PackageFile: iSEE_2.18.0.tar.gz PackageFileSize: 26.3 MiB