Package: iSEE Version: 2.18.0 Command: /home/biocbuild/R/R/bin/R CMD check --install=check:iSEE.install-out.txt --library=/home/biocbuild/R/R/site-library --no-vignettes --timings iSEE_2.18.0.tar.gz StartedAt: 2025-01-31 07:26:24 -0000 (Fri, 31 Jan 2025) EndedAt: 2025-01-31 07:32:39 -0000 (Fri, 31 Jan 2025) EllapsedTime: 375.5 seconds RetCode: 0 Status: OK CheckDir: iSEE.Rcheck Warnings: 0