Package: iSEEde Version: 1.4.0 Command: /Library/Frameworks/R.framework/Resources/bin/R CMD build --keep-empty-dirs --no-resave-data iSEEde StartedAt: 2025-02-04 02:01:47 -0500 (Tue, 04 Feb 2025) EndedAt: 2025-02-04 02:04:17 -0500 (Tue, 04 Feb 2025) EllapsedTime: 150.2 seconds RetCode: 0 Status: OK PackageFile: iSEEde_1.4.0.tar.gz PackageFileSize: 3.089 MiB