Package: iSEEde Version: 1.4.0 Command: rm -rf iSEEde.buildbin-libdir && mkdir iSEEde.buildbin-libdir && /Users/biocbuild/BBS/utils/build-universal.sh iSEEde_1.4.0.tar.gz /Library/Frameworks/R.framework/Resources/bin/R iSEEde.buildbin-libdir StartedAt: 2025-02-04 13:12:57 -0500 (Tue, 04 Feb 2025) EndedAt: 2025-02-04 13:14:52 -0500 (Tue, 04 Feb 2025) EllapsedTime: 115.7 seconds RetCode: 0 Status: OK PackageFile: iSEEde_1.4.0.tgz PackageFileSize: 2.417 MiB