Package: iSEEde Version: 1.4.0 Command: /Library/Frameworks/R.framework/Resources/bin/R CMD build --keep-empty-dirs --no-resave-data iSEEde StartedAt: 2025-02-03 19:49:14 -0500 (Mon, 03 Feb 2025) EndedAt: 2025-02-03 19:53:22 -0500 (Mon, 03 Feb 2025) EllapsedTime: 247.7 seconds RetCode: 0 Status: OK PackageFile: iSEEde_1.4.0.tar.gz PackageFileSize: 3.089 MiB