Package: iSEEde Version: 1.4.0 Command: /Library/Frameworks/R.framework/Resources/bin/R CMD INSTALL iSEEde StartedAt: 2025-02-03 16:09:02 -0500 (Mon, 03 Feb 2025) EndedAt: 2025-02-03 16:10:12 -0500 (Mon, 03 Feb 2025) EllapsedTime: 69.7 seconds RetCode: 0 Status: OK