Package: iSEEde Version: 1.4.0 Command: rm -rf iSEEde.buildbin-libdir && mkdir iSEEde.buildbin-libdir && F:\biocbuild\bbs-3.20-bioc\R\bin\R.exe CMD INSTALL --build --library=iSEEde.buildbin-libdir iSEEde_1.4.0.tar.gz StartedAt: 2025-02-11 08:42:27 -0500 (Tue, 11 Feb 2025) EndedAt: 2025-02-11 08:43:20 -0500 (Tue, 11 Feb 2025) EllapsedTime: 53.1 seconds RetCode: 0 Status: OK PackageFile: iSEEde_1.4.0.zip PackageFileSize: 2.428 MiB