Package: iSEEindex Version: 1.4.0 Command: /Library/Frameworks/R.framework/Resources/bin/R CMD INSTALL iSEEindex StartedAt: 2025-01-30 16:59:49 -0500 (Thu, 30 Jan 2025) EndedAt: 2025-01-30 17:00:26 -0500 (Thu, 30 Jan 2025) EllapsedTime: 37.1 seconds RetCode: 0 Status: OK