Package: iSEEindex Version: 1.4.0 Command: /Library/Frameworks/R.framework/Resources/bin/R CMD build --keep-empty-dirs --no-resave-data iSEEindex StartedAt: 2025-01-30 20:06:07 -0500 (Thu, 30 Jan 2025) EndedAt: 2025-01-30 20:08:12 -0500 (Thu, 30 Jan 2025) EllapsedTime: 125.6 seconds RetCode: 0 Status: OK PackageFile: iSEEindex_1.4.0.tar.gz PackageFileSize: 1.377 MiB