Package: iSEEindex Version: 1.4.0 Command: /Library/Frameworks/R.framework/Resources/bin/R CMD INSTALL iSEEindex StartedAt: 2025-01-30 16:05:04 -0500 (Thu, 30 Jan 2025) EndedAt: 2025-01-30 16:06:13 -0500 (Thu, 30 Jan 2025) EllapsedTime: 68.7 seconds RetCode: 0 Status: OK