Package: iSEEindex Version: 1.4.0 Command: F:\biocbuild\bbs-3.20-bioc\R\bin\R.exe CMD INSTALL iSEEindex StartedAt: 2025-01-30 16:05:05 -0500 (Thu, 30 Jan 2025) EndedAt: 2025-01-30 16:05:58 -0500 (Thu, 30 Jan 2025) EllapsedTime: 52.7 seconds RetCode: 0 Status: OK