Package: iSEEindex Version: 1.4.0 Command: /home/biocbuild/R/R/bin/R CMD build --keep-empty-dirs --no-resave-data iSEEindex StartedAt: 2025-01-31 00:28:22 -0000 (Fri, 31 Jan 2025) EndedAt: 2025-01-31 00:29:24 -0000 (Fri, 31 Jan 2025) EllapsedTime: 62.0 seconds RetCode: 0 Status: OK PackageFile: iSEEindex_1.4.0.tar.gz PackageFileSize: 1.572 MiB