Package: iSEEindex Version: 1.4.0 Command: /home/biocbuild/R/R/bin/R CMD check --install=check:iSEEindex.install-out.txt --library=/home/biocbuild/R/R/site-library --no-vignettes --timings iSEEindex_1.4.0.tar.gz StartedAt: 2025-01-31 07:27:47 -0000 (Fri, 31 Jan 2025) EndedAt: 2025-01-31 07:32:46 -0000 (Fri, 31 Jan 2025) EllapsedTime: 299.4 seconds RetCode: 0 Status: OK CheckDir: iSEEindex.Rcheck Warnings: 0