Package: iSEEtree Version: 1.0.0 Command: /home/biocbuild/bbs-3.20-bioc/R/bin/R CMD build --keep-empty-dirs --no-resave-data --md5 iSEEtree StartedAt: 2025-02-03 17:56:24 -0500 (Mon, 03 Feb 2025) EndedAt: 2025-02-03 17:57:27 -0500 (Mon, 03 Feb 2025) EllapsedTime: 63.1 seconds RetCode: 0 Status: OK PackageFile: iSEEtree_1.0.0.tar.gz PackageFileSize: 656.4 KiB