Package: iSEEtree Version: 1.0.0 Command: /home/biocbuild/bbs-3.20-bioc/R/bin/R CMD check --install=check:iSEEtree.install-out.txt --library=/home/biocbuild/bbs-3.20-bioc/R/site-library --timings iSEEtree_1.0.0.tar.gz StartedAt: 2025-02-03 23:29:47 -0500 (Mon, 03 Feb 2025) EndedAt: 2025-02-03 23:35:16 -0500 (Mon, 03 Feb 2025) EllapsedTime: 328.4 seconds RetCode: 0 Status: OK CheckDir: iSEEtree.Rcheck Warnings: 0