Package: iSEEtree Version: 1.0.0 Command: rm -rf iSEEtree.buildbin-libdir && mkdir iSEEtree.buildbin-libdir && F:\biocbuild\bbs-3.20-bioc\R\bin\R.exe CMD INSTALL --build --library=iSEEtree.buildbin-libdir iSEEtree_1.0.0.tar.gz StartedAt: 2025-02-04 08:46:02 -0500 (Tue, 04 Feb 2025) EndedAt: 2025-02-04 08:47:15 -0500 (Tue, 04 Feb 2025) EllapsedTime: 72.6 seconds RetCode: 0 Status: OK PackageFile: iSEEtree_1.0.0.zip PackageFileSize: 806.5 KiB