Package: iSEEtree Version: 1.0.0 Command: F:\biocbuild\bbs-3.20-bioc\R\bin\R.exe CMD INSTALL iSEEtree StartedAt: 2025-02-03 16:42:17 -0500 (Mon, 03 Feb 2025) EndedAt: 2025-02-03 16:43:24 -0500 (Mon, 03 Feb 2025) EllapsedTime: 67.0 seconds RetCode: 0 Status: OK