Package: iSEEu Version: 1.18.0 Command: /Library/Frameworks/R.framework/Resources/bin/R CMD build --keep-empty-dirs --no-resave-data iSEEu StartedAt: 2025-02-11 02:08:36 -0500 (Tue, 11 Feb 2025) EndedAt: 2025-02-11 02:10:53 -0500 (Tue, 11 Feb 2025) EllapsedTime: 136.4 seconds RetCode: 0 Status: OK PackageFile: iSEEu_1.18.0.tar.gz PackageFileSize: 1.62 MiB