Package: iSEEu Version: 1.18.0 Command: rm -rf iSEEu.buildbin-libdir && mkdir iSEEu.buildbin-libdir && /Users/biocbuild/BBS/utils/build-universal.sh iSEEu_1.18.0.tar.gz /Library/Frameworks/R.framework/Resources/bin/R iSEEu.buildbin-libdir StartedAt: 2025-02-11 13:34:17 -0500 (Tue, 11 Feb 2025) EndedAt: 2025-02-11 13:36:15 -0500 (Tue, 11 Feb 2025) EllapsedTime: 118.7 seconds RetCode: 0 Status: OK PackageFile: iSEEu_1.18.0.tgz PackageFileSize: 1.427 MiB