Package: iSEEu Version: 1.18.0 Command: /Library/Frameworks/R.framework/Resources/bin/R CMD INSTALL iSEEu StartedAt: 2025-02-10 16:02:03 -0500 (Mon, 10 Feb 2025) EndedAt: 2025-02-10 16:03:18 -0500 (Mon, 10 Feb 2025) EllapsedTime: 74.9 seconds RetCode: 0 Status: OK