Package: iSEEu Version: 1.18.0 Command: /home/biocbuild/bbs-3.20-bioc/R/bin/R CMD build --keep-empty-dirs --no-resave-data --md5 iSEEu StartedAt: 2025-02-10 17:49:12 -0500 (Mon, 10 Feb 2025) EndedAt: 2025-02-10 17:50:36 -0500 (Mon, 10 Feb 2025) EllapsedTime: 84.1 seconds RetCode: 0 Status: OK PackageFile: iSEEu_1.18.0.tar.gz PackageFileSize: 1.622 MiB