Package: iSEEu Version: 1.18.0 Command: rm -rf iSEEu.buildbin-libdir && mkdir iSEEu.buildbin-libdir && F:\biocbuild\bbs-3.20-bioc\R\bin\R.exe CMD INSTALL --build --library=iSEEu.buildbin-libdir iSEEu_1.18.0.tar.gz StartedAt: 2025-02-11 08:43:00 -0500 (Tue, 11 Feb 2025) EndedAt: 2025-02-11 08:44:05 -0500 (Tue, 11 Feb 2025) EllapsedTime: 65.0 seconds RetCode: 0 Status: OK PackageFile: iSEEu_1.18.0.zip PackageFileSize: 1.432 MiB