Package: iSEEu Version: 1.18.0 Command: chmod a+r iSEEu -R && F:\biocbuild\bbs-3.20-bioc\R\bin\R.exe CMD build --keep-empty-dirs --no-resave-data iSEEu StartedAt: 2025-02-10 19:51:02 -0500 (Mon, 10 Feb 2025) EndedAt: 2025-02-10 19:53:10 -0500 (Mon, 10 Feb 2025) EllapsedTime: 127.7 seconds RetCode: 0 Status: OK PackageFile: iSEEu_1.18.0.tar.gz PackageFileSize: 1.62 MiB