Package: iSEEu Version: 1.18.0 Command: F:\biocbuild\bbs-3.20-bioc\R\bin\R.exe CMD check --no-multiarch --install=check:iSEEu.install-out.txt --library=F:\biocbuild\bbs-3.20-bioc\R\library --no-vignettes --timings iSEEu_1.18.0.tar.gz StartedAt: 2025-02-04 03:02:29 -0500 (Tue, 04 Feb 2025) EndedAt: 2025-02-04 03:08:49 -0500 (Tue, 04 Feb 2025) EllapsedTime: 380.8 seconds RetCode: 0 Status: WARNINGS CheckDir: iSEEu.Rcheck Warnings: 1