Package: iSEEu Version: 1.18.0 Command: F:\biocbuild\bbs-3.20-bioc\R\bin\R.exe CMD INSTALL iSEEu StartedAt: 2025-02-10 16:28:48 -0500 (Mon, 10 Feb 2025) EndedAt: 2025-02-10 16:29:39 -0500 (Mon, 10 Feb 2025) EllapsedTime: 51.3 seconds RetCode: 0 Status: OK