Package: iSEEu Version: 1.18.0 Command: /home/biocbuild/R/R/bin/R CMD build --keep-empty-dirs --no-resave-data iSEEu StartedAt: 2025-02-11 00:19:21 -0000 (Tue, 11 Feb 2025) EndedAt: 2025-02-11 00:22:05 -0000 (Tue, 11 Feb 2025) EllapsedTime: 164.1 seconds RetCode: 0 Status: OK PackageFile: iSEEu_1.18.0.tar.gz PackageFileSize: 1.644 MiB