Package: iSEEu Version: 1.18.0 Command: /home/biocbuild/R/R/bin/R CMD INSTALL iSEEu StartedAt: 2025-02-10 20:47:07 -0000 (Mon, 10 Feb 2025) EndedAt: 2025-02-10 20:47:50 -0000 (Mon, 10 Feb 2025) EllapsedTime: 43.4 seconds RetCode: 0 Status: OK