Package: ibh Version: 1.54.0 Command: chmod a+r ibh -R && F:\biocbuild\bbs-3.20-bioc\R\bin\R.exe CMD build --keep-empty-dirs --no-resave-data ibh StartedAt: 2025-02-03 19:48:13 -0500 (Mon, 03 Feb 2025) EndedAt: 2025-02-03 19:48:28 -0500 (Mon, 03 Feb 2025) EllapsedTime: 14.7 seconds RetCode: 0 Status: OK PackageFile: ibh_1.54.0.tar.gz PackageFileSize: 128.1 KiB