Package: ibh Version: 1.54.0 Command: F:\biocbuild\bbs-3.20-bioc\R\bin\R.exe CMD INSTALL ibh StartedAt: 2025-02-03 15:34:05 -0500 (Mon, 03 Feb 2025) EndedAt: 2025-02-03 15:34:14 -0500 (Mon, 03 Feb 2025) EllapsedTime: 9.0 seconds RetCode: 0 Status: OK