Package: ibh Version: 1.54.0 Command: /home/biocbuild/R/R/bin/R CMD check --install=check:ibh.install-out.txt --library=/home/biocbuild/R/R/site-library --no-vignettes --timings ibh_1.54.0.tar.gz StartedAt: 2025-01-31 07:16:11 -0000 (Fri, 31 Jan 2025) EndedAt: 2025-01-31 07:16:27 -0000 (Fri, 31 Jan 2025) EllapsedTime: 16.0 seconds RetCode: 0 Status: OK CheckDir: ibh.Rcheck Warnings: 0