Package: ibh Version: 1.54.0 Command: /home/biocbuild/R/R/bin/R CMD INSTALL ibh StartedAt: 2025-02-03 20:23:48 -0000 (Mon, 03 Feb 2025) EndedAt: 2025-02-03 20:24:12 -0000 (Mon, 03 Feb 2025) EllapsedTime: 23.7 seconds RetCode: 0 Status: OK