Package: ideal Version: 2.0.0 Command: rm -rf ideal.buildbin-libdir && mkdir ideal.buildbin-libdir && /Users/biocbuild/BBS/utils/build-universal.sh ideal_2.0.0.tar.gz /Library/Frameworks/R.framework/Resources/bin/R ideal.buildbin-libdir StartedAt: 2025-02-12 15:29:08 -0500 (Wed, 12 Feb 2025) EndedAt: 2025-02-12 15:30:23 -0500 (Wed, 12 Feb 2025) EllapsedTime: 75.1 seconds RetCode: 0 Status: OK PackageFile: ideal_2.0.0.tgz PackageFileSize: 5.549 MiB