Package: ideal Version: 2.0.0 Command: /home/biocbuild/bbs-3.20-bioc/R/bin/R CMD build --keep-empty-dirs --no-resave-data --md5 ideal StartedAt: 2025-02-03 17:51:27 -0500 (Mon, 03 Feb 2025) EndedAt: 2025-02-03 17:54:11 -0500 (Mon, 03 Feb 2025) EllapsedTime: 164.3 seconds RetCode: 0 Status: OK PackageFile: ideal_2.0.0.tar.gz PackageFileSize: 5.668 MiB