Package: ideal Version: 2.0.0 Command: /home/biocbuild/bbs-3.20-bioc/R/bin/R CMD check --install=check:ideal.install-out.txt --library=/home/biocbuild/bbs-3.20-bioc/R/site-library --timings ideal_2.0.0.tar.gz StartedAt: 2025-02-03 23:18:18 -0500 (Mon, 03 Feb 2025) EndedAt: 2025-02-03 23:27:17 -0500 (Mon, 03 Feb 2025) EllapsedTime: 539.6 seconds RetCode: 0 Status: OK CheckDir: ideal.Rcheck Warnings: 0