Package: ideal Version: 2.0.0 Command: F:\biocbuild\bbs-3.20-bioc\R\bin\R.exe CMD check --no-multiarch --install=check:ideal.install-out.txt --library=F:\biocbuild\bbs-3.20-bioc\R\library --no-vignettes --timings ideal_2.0.0.tar.gz StartedAt: 2025-02-11 02:44:31 -0500 (Tue, 11 Feb 2025) EndedAt: 2025-02-11 02:53:22 -0500 (Tue, 11 Feb 2025) EllapsedTime: 531.4 seconds RetCode: 0 Status: OK CheckDir: ideal.Rcheck Warnings: 0