Package: ideal Version: 2.0.0 Command: /home/biocbuild/R/R/bin/R CMD INSTALL ideal StartedAt: 2025-02-03 21:14:50 -0000 (Mon, 03 Feb 2025) EndedAt: 2025-02-03 21:15:59 -0000 (Mon, 03 Feb 2025) EllapsedTime: 69.2 seconds RetCode: 0 Status: OK