Package: imcRtools Version: 1.12.0 Command: /Library/Frameworks/R.framework/Resources/bin/R CMD build --keep-empty-dirs --no-resave-data imcRtools StartedAt: 2025-02-11 01:50:46 -0500 (Tue, 11 Feb 2025) EndedAt: 2025-02-11 01:53:43 -0500 (Tue, 11 Feb 2025) EllapsedTime: 176.8 seconds RetCode: 0 Status: OK PackageFile: imcRtools_1.12.0.tar.gz PackageFileSize: 6.772 MiB