Package: imcRtools Version: 1.12.0 Command: /home/biocbuild/bbs-3.20-bioc/R/bin/R CMD INSTALL imcRtools StartedAt: 2025-02-03 15:50:17 -0500 (Mon, 03 Feb 2025) EndedAt: 2025-02-03 15:51:14 -0500 (Mon, 03 Feb 2025) EllapsedTime: 57.4 seconds RetCode: 0 Status: OK