Package: imcRtools Version: 1.12.0 Command: F:\biocbuild\bbs-3.20-bioc\R\bin\R.exe CMD INSTALL imcRtools StartedAt: 2025-02-10 16:36:15 -0500 (Mon, 10 Feb 2025) EndedAt: 2025-02-10 16:37:55 -0500 (Mon, 10 Feb 2025) EllapsedTime: 100.5 seconds RetCode: 0 Status: OK