Package: immApex Version: 1.0.4 Command: rm -rf immApex.buildbin-libdir && mkdir immApex.buildbin-libdir && /Users/biocbuild/BBS/utils/build-universal.sh immApex_1.0.4.tar.gz /Library/Frameworks/R.framework/Resources/bin/R immApex.buildbin-libdir StartedAt: 2025-02-01 15:21:09 -0500 (Sat, 01 Feb 2025) EndedAt: 2025-02-01 15:21:40 -0500 (Sat, 01 Feb 2025) EllapsedTime: 30.7 seconds RetCode: 0 Status: OK PackageFile: immApex_1.0.4.tgz PackageFileSize: 1.653 MiB